BEGIN:VCALENDAR
VERSION:2.0
PRODID:-//UNC Health Care Tar Heel Trauma - ECPv6.6.4.2//NONSGML v1.0//EN
CALSCALE:GREGORIAN
METHOD:PUBLISH
X-ORIGINAL-URL:https://tarheeltrauma.org
X-WR-CALDESC:Events for UNC Health Care Tar Heel Trauma
REFRESH-INTERVAL;VALUE=DURATION:PT1H
X-Robots-Tag:noindex
X-PUBLISHED-TTL:PT1H
BEGIN:VTIMEZONE
TZID:America/New_York
BEGIN:DAYLIGHT
TZOFFSETFROM:-0500
TZOFFSETTO:-0400
TZNAME:EDT
DTSTART:20220313T070000
END:DAYLIGHT
BEGIN:STANDARD
TZOFFSETFROM:-0400
TZOFFSETTO:-0500
TZNAME:EST
DTSTART:20221106T060000
END:STANDARD
END:VTIMEZONE
BEGIN:VEVENT
DTSTART;TZID=America/New_York:20221110T080000
DTEND;TZID=America/New_York:20221111T130000
DTSTAMP:20260421T062848
CREATED:20210930T015605Z
LAST-MODIFIED:20220928T144229Z
UID:181679-1668067200-1668171600@tarheeltrauma.org
SUMMARY:Emergency Nursing Pediatric Course (ENPC)
DESCRIPTION:ENPC offers interactive learning with scenario-based assessments and is the premier course for trauma care. \n\nA systematic approach to the initial assessment\nHands-on training to provide expert care\nEvidence-based content developed by trauma experts\nPatient advocacy regarding pain management and family presence\n\nCost: $225.00 for Registered Nurses $185.00 for Auditors \nLocation: 3500 Tricenter Blvd\, Durham\, NC 27713 0800-1630 Day 1 0800-1330 Day 2. \nDetails: Full course attendance is required. Continental breakfast and lunch are provided. Course materials are distributed approximately one month prior to the class. \nCancelation Policy: A full refund will be issued if training materials and cancellations are received 14 business days prior to the course. An $85.00 fee will be applied for any cancellation within 14 days of the course. Refunds do not apply to “no show attendees.” \nIn accordance with the Americans with Disabilities Act\, please advise us if you have any disability that requires special materials and/or services. \nApplication and payment are due one month prior to the course. Payment must be received to hold your slot.
URL:https://tarheeltrauma.org/event/emergency-nursing-pediatric-course-enpc-november-22/
LOCATION:Tricenter Blvd Durham\, 3500 Tricenter Blvd\, Durham\, NC\, 27713\, United States
CATEGORIES:ENPC Events
ATTACH;FMTTYPE=image/jpeg:https://tarheeltrauma.org/wp-content/uploads/2019/12/enpc.jpg
ORGANIZER;CN="Paula Bruno":MAILTO:paula.bruno@unchealth.unc.edu
END:VEVENT
BEGIN:VEVENT
DTSTART;TZID=America/New_York:20221027T080000
DTEND;TZID=America/New_York:20221028T130000
DTSTAMP:20260421T062848
CREATED:20210930T011754Z
LAST-MODIFIED:20220817T173016Z
UID:181667-1666857600-1666962000@tarheeltrauma.org
SUMMARY:Trauma Nursing Core Course (TNCC)
DESCRIPTION:TNCC offers interactive learning with scenario-based assessments and is the premier course for trauma care. \n\nA systematic approach to the initial assessment\nHands-on training to provide expert care\nEvidence-based content developed by trauma experts\nPatient advocacy regarding pain management and family presence\n\nCost: $225.00 for Registered Nurses $185.00 for Auditors \nLocation: 3500 Tricenter Blvd\, Durham\, NC 27713 0800-1630 Day 1 0800-1330 Day 2. \nDetails: Full course attendance is required. Continental breakfast and lunch are provided. Course materials are distributed approximately one month prior to the class. \nCancelation Policy: A full refund will be issued if training materials and cancellations are received 14 business days prior to the course. An $85.00 fee will be applied for any cancellation within 14 days of the course. Refunds do not apply to “no show attendees.” \nIn accordance with the Americans with Disabilities Act\, please advise us if you have any disability that requires special materials and/or services. \nApplication and payment are due one month prior to the course. Payment must be received to hold your slot.
URL:https://tarheeltrauma.org/event/trauma-nursing-core-course-tncc-oct-2022/
LOCATION:Tricenter Blvd Durham\, 3500 Tricenter Blvd\, Durham\, NC\, 27713\, United States
CATEGORIES:TNCC Events
ATTACH;FMTTYPE=image/jpeg:https://tarheeltrauma.org/wp-content/uploads/2019/12/tncc-img.jpg
ORGANIZER;CN="Paula Bruno":MAILTO:paula.bruno@unchealth.unc.edu
END:VEVENT
BEGIN:VEVENT
DTSTART;TZID=America/New_York:20220825T080000
DTEND;TZID=America/New_York:20220826T130000
DTSTAMP:20260421T062848
CREATED:20210930T014155Z
LAST-MODIFIED:20220822T134404Z
UID:181675-1661414400-1661518800@tarheeltrauma.org
SUMMARY:Emergency Nursing Pediatric Course (ENPC)
DESCRIPTION:ENPC offers interactive learning with scenario-based assessments and is the premier course for trauma care. \n\nA systematic approach to the initial assessment\nHands-on training to provide expert care\nEvidence-based content developed by trauma experts\nPatient advocacy regarding pain management and family presence\n\nCost: $225.00 for Registered Nurses $185.00 for Auditors \nLocation: 3500 Tricenter Blvd\, Durham\, NC 27713 0800-1630 Day 1 0800-1330 Day 2. \nDetails: Full course attendance is required. Continental breakfast and lunch are provided. Course materials are distributed approximately one month prior to the class. \nCancelation Policy: A full refund will be issued if training materials and cancellations are received 14 business days prior to the course. An $85.00 fee will be applied for any cancellation within 14 days of the course. Refunds do not apply to “no show attendees.” \nIn accordance with the Americans with Disabilities Act\, please advise us if you have any disability that requires special materials and/or services. \nApplication and payment are due one month prior to the course. Payment must be received to hold your slot.
URL:https://tarheeltrauma.org/event/emergency-nursing-pediatric-course-enpc-august-2022/
LOCATION:Tricenter Blvd Durham\, 3500 Tricenter Blvd\, Durham\, NC\, 27713\, United States
CATEGORIES:ENPC Events
ATTACH;FMTTYPE=image/jpeg:https://tarheeltrauma.org/wp-content/uploads/2019/12/enpc.jpg
ORGANIZER;CN="Paula Bruno":MAILTO:paula.bruno@unchealth.unc.edu
END:VEVENT
BEGIN:VEVENT
DTSTART;TZID=America/New_York:20220324T080000
DTEND;TZID=America/New_York:20220325T130000
DTSTAMP:20260421T062848
CREATED:20210930T012705Z
LAST-MODIFIED:20211008T004031Z
UID:181671-1648108800-1648213200@tarheeltrauma.org
SUMMARY:Emergency Nursing Pediatric Course (ENPC)
DESCRIPTION:ENPC offers interactive learning with scenario-based assessments and is the premier course for trauma care. \n\nA systematic approach to the initial assessment\nHands-on training to provide expert care\nEvidence-based content developed by trauma experts\nPatient advocacy regarding pain management and family presence\n\nCost: $225.00 for Registered Nurses $185.00 for Auditors \nLocation: 3500 Tricenter Blvd\, Durham\, NC 27713 0800-1630 Day 1 0800-1330 Day 2. \nDetails: Full course attendance is required. Continental breakfast and lunch are provided. Course materials are distributed approximately one month prior to the class. \nCancelation Policy: A full refund will be issued if training materials and cancellations are received 14 business days prior to the course. An $85.00 fee will be applied for any cancellation within 14 days of the course. Refunds do not apply to “no show attendees.” \nIn accordance with the Americans with Disabilities Act\, please advise us if you have any disability that requires special materials and/or services. \nApplication and payment are due one month prior to the course. Payment must be received to hold your slot.
URL:https://tarheeltrauma.org/event/emergency-nursing-pediatric-course-enpc-march-22/
LOCATION:Tricenter Blvd Durham\, 3500 Tricenter Blvd\, Durham\, NC\, 27713\, United States
CATEGORIES:ENPC Events
ATTACH;FMTTYPE=image/jpeg:https://tarheeltrauma.org/wp-content/uploads/2019/12/enpc.jpg
ORGANIZER;CN="Paula Bruno":MAILTO:paula.bruno@unchealth.unc.edu
END:VEVENT
BEGIN:VEVENT
DTSTART;TZID=America/New_York:20220224T080000
DTEND;TZID=America/New_York:20220225T130000
DTSTAMP:20260421T062848
CREATED:20210930T004814Z
LAST-MODIFIED:20220113T041644Z
UID:181659-1645689600-1645794000@tarheeltrauma.org
SUMMARY:Trauma Nursing Core Course (TNCC)
DESCRIPTION:TNCC offers interactive learning with scenario-based assessments and is the premier course for trauma care. \n\nA systematic approach to the initial assessment\nHands-on training to provide expert care\nEvidence-based content developed by trauma experts\nPatient advocacy regarding pain management and family presence\n\nCost: $225.00 for Registered Nurses $185.00 for Auditors \nLocation: 3500 Tricenter Blvd\, Durham\, NC 27713 0800-1630 Day 1 0800-1330 Day 2. \nDetails: Full course attendance is required. Continental breakfast and lunch are provided. Course materials are distributed approximately one month prior to the class. \nCancelation Policy: A full refund will be issued if training materials and cancellations are received 14 business days prior to the course. An $85.00 fee will be applied for any cancellation within 14 days of the course. Refunds do not apply to “no show attendees.” \nIn accordance with the Americans with Disabilities Act\, please advise us if you have any disability that requires special materials and/or services. \nApplication and payment are due one month prior to the course. Payment must be received to hold your slot. \n  \nRegistration is now closed.
URL:https://tarheeltrauma.org/event/trauma-nursing-core-course-tncc-feb-22/
LOCATION:Tricenter Blvd Durham\, 3500 Tricenter Blvd\, Durham\, NC\, 27713\, United States
CATEGORIES:TNCC Events
ATTACH;FMTTYPE=image/jpeg:https://tarheeltrauma.org/wp-content/uploads/2019/12/tncc-img.jpg
ORGANIZER;CN="Paula Bruno":MAILTO:paula.bruno@unchealth.unc.edu
END:VEVENT
END:VCALENDAR